Package: BASiCS Version: 2.16.0 Command: /home/biocbuild/bbs-3.19-bioc/R/bin/R CMD INSTALL BASiCS StartedAt: 2024-10-16 16:39:06 -0400 (Wed, 16 Oct 2024) EndedAt: 2024-10-16 16:40:16 -0400 (Wed, 16 Oct 2024) EllapsedTime: 70.1 seconds RetCode: 0 Status: OK