Package: BANDITS Version: 1.20.0 Command: /Library/Frameworks/R.framework/Resources/bin/R CMD build --keep-empty-dirs --no-resave-data BANDITS StartedAt: 2024-10-16 19:45:38 -0400 (Wed, 16 Oct 2024) EndedAt: 2024-10-16 19:48:36 -0400 (Wed, 16 Oct 2024) EllapsedTime: 178.0 seconds RetCode: 0 Status: OK PackageFile: BANDITS_1.20.0.tar.gz PackageFileSize: 1.216 MiB