Package: BANDITS Version: 1.20.0 Command: rm -rf BANDITS.buildbin-libdir && mkdir BANDITS.buildbin-libdir && /Users/biocbuild/BBS/utils/build-universal.sh BANDITS_1.20.0.tar.gz /Library/Frameworks/R.framework/Resources/bin/R BANDITS.buildbin-libdir StartedAt: 2024-10-18 17:21:57 -0400 (Fri, 18 Oct 2024) EndedAt: 2024-10-18 17:23:07 -0400 (Fri, 18 Oct 2024) EllapsedTime: 70.2 seconds RetCode: 0 Status: OK PackageFile: BANDITS_1.20.0.tgz PackageFileSize: 1.597 MiB