Package: BAGS Version: 2.44.0 Command: /Library/Frameworks/R.framework/Resources/bin/R CMD build --keep-empty-dirs --no-resave-data BAGS StartedAt: 2024-10-16 19:44:00 -0400 (Wed, 16 Oct 2024) EndedAt: 2024-10-16 19:44:34 -0400 (Wed, 16 Oct 2024) EllapsedTime: 34.5 seconds RetCode: 0 Status: OK PackageFile: BAGS_2.44.0.tar.gz PackageFileSize: 273.1 KiB