Package: BAGS Version: 2.44.0 Command: rm -rf BAGS.buildbin-libdir && mkdir BAGS.buildbin-libdir && /Users/biocbuild/BBS/utils/build-universal.sh BAGS_2.44.0.tar.gz /Library/Frameworks/R.framework/Resources/bin/R BAGS.buildbin-libdir StartedAt: 2024-10-18 17:21:40 -0400 (Fri, 18 Oct 2024) EndedAt: 2024-10-18 17:21:48 -0400 (Fri, 18 Oct 2024) EllapsedTime: 8.0 seconds RetCode: 0 Status: OK PackageFile: BAGS_2.44.0.tgz PackageFileSize: 314.3 KiB