Package: ArrayExpress Version: 1.64.0 Command: rm -rf ArrayExpress.buildbin-libdir && mkdir ArrayExpress.buildbin-libdir && /Users/biocbuild/BBS/utils/build-universal.sh ArrayExpress_1.64.0.tar.gz /Library/Frameworks/R.framework/Resources/bin/R ArrayExpress.buildbin-libdir StartedAt: 2024-10-17 15:38:25 -0400 (Thu, 17 Oct 2024) EndedAt: 2024-10-17 15:39:28 -0400 (Thu, 17 Oct 2024) EllapsedTime: 62.5 seconds RetCode: 0 Status: OK PackageFile: ArrayExpress_1.64.0.tgz PackageFileSize: 182.8 KiB