Package: AnnotationDbi Version: 1.66.0 Command: chmod a+r AnnotationDbi -R && F:\biocbuild\bbs-3.19-bioc\R\bin\R.exe CMD build --keep-empty-dirs --no-resave-data AnnotationDbi StartedAt: 2024-06-26 17:04:27 -0400 (Wed, 26 Jun 2024) EndedAt: 2024-06-26 17:11:27 -0400 (Wed, 26 Jun 2024) EllapsedTime: 420.1 seconds RetCode: 0 Status: OK PackageFile: AnnotationDbi_1.66.0.tar.gz PackageFileSize: 4.16 MiB