Package: AnnotationDbi Version: 1.66.0 Command: rm -rf AnnotationDbi.buildbin-libdir && mkdir AnnotationDbi.buildbin-libdir && F:\biocbuild\bbs-3.19-bioc\R\bin\R.exe CMD INSTALL --build --library=AnnotationDbi.buildbin-libdir AnnotationDbi_1.66.0.tar.gz StartedAt: 2024-06-27 07:49:30 -0400 (Thu, 27 Jun 2024) EndedAt: 2024-06-27 07:50:28 -0400 (Thu, 27 Jun 2024) EllapsedTime: 57.5 seconds RetCode: 0 Status: OK PackageFile: AnnotationDbi_1.66.0.zip PackageFileSize: 5.041 MiB