Package: AnVILWorkflow Version: 1.4.0 Command: /Library/Frameworks/R.framework/Resources/bin/R CMD check --install=check:AnVILWorkflow.install-out.txt --library=/Library/Frameworks/R.framework/Resources/library --no-vignettes --timings AnVILWorkflow_1.4.0.tar.gz StartedAt: 2024-06-10 07:24:22 -0400 (Mon, 10 Jun 2024) EndedAt: 2024-06-10 07:25:43 -0400 (Mon, 10 Jun 2024) EllapsedTime: 81.2 seconds RetCode: 0 Status: WARNINGS CheckDir: AnVILWorkflow.Rcheck Warnings: 1