Package: AnVILWorkflow Version: 1.4.0 Command: /Library/Frameworks/R.framework/Resources/bin/R CMD build --keep-empty-dirs --no-resave-data AnVILWorkflow StartedAt: 2024-10-16 19:25:30 -0400 (Wed, 16 Oct 2024) EndedAt: 2024-10-16 19:25:43 -0400 (Wed, 16 Oct 2024) EllapsedTime: 12.4 seconds RetCode: 0 Status: OK PackageFile: AnVILWorkflow_1.4.0.tar.gz PackageFileSize: 1.071 MiB