Package: AnVILBilling Version: 1.14.0 Command: F:\biocbuild\bbs-3.19-bioc\R\bin\R.exe CMD check --no-multiarch --install=check:AnVILBilling.install-out.txt --library=F:\biocbuild\bbs-3.19-bioc\R\library --no-vignettes --timings AnVILBilling_1.14.0.tar.gz StartedAt: 2024-06-26 22:57:33 -0400 (Wed, 26 Jun 2024) EndedAt: 2024-06-26 22:58:45 -0400 (Wed, 26 Jun 2024) EllapsedTime: 71.9 seconds RetCode: 0 Status: OK CheckDir: AnVILBilling.Rcheck Warnings: 0