Package: AnVILBilling Version: 1.14.0 Command: rm -rf AnVILBilling.buildbin-libdir && mkdir AnVILBilling.buildbin-libdir && F:\biocbuild\bbs-3.19-bioc\R\bin\R.exe CMD INSTALL --build --library=AnVILBilling.buildbin-libdir AnVILBilling_1.14.0.tar.gz StartedAt: 2024-06-27 07:49:51 -0400 (Thu, 27 Jun 2024) EndedAt: 2024-06-27 07:50:13 -0400 (Thu, 27 Jun 2024) EllapsedTime: 22.2 seconds RetCode: 0 Status: OK PackageFile: AnVILBilling_1.14.0.zip PackageFileSize: 746.8 KiB