Package: AnVILBilling Version: 1.14.0 Maintainer: Vince Carey MaintainerEmail: stvjc at channing.harvard.edu git_url: https://git.bioconductor.org/packages/AnVILBilling git_branch: RELEASE_3_19 git_last_commit: 4f76977 git_last_commit_date: 2024-04-30 11:28:46 -0400 (Tue, 30 Apr 2024)