Package: AnVIL Version: 1.16.2 Command: rm -rf AnVIL.buildbin-libdir && mkdir AnVIL.buildbin-libdir && /Users/biocbuild/BBS/utils/build-universal.sh AnVIL_1.16.2.tar.gz /Library/Frameworks/R.framework/Resources/bin/R AnVIL.buildbin-libdir StartedAt: 2024-10-18 17:17:25 -0400 (Fri, 18 Oct 2024) EndedAt: 2024-10-18 17:17:37 -0400 (Fri, 18 Oct 2024) EllapsedTime: 11.5 seconds RetCode: 0 Status: OK PackageFile: AnVIL_1.16.2.tgz PackageFileSize: 1.175 MiB