Package: ATACseqTFEA Version: 1.6.0 Command: /home/biocbuild/bbs-3.19-bioc/R/bin/R CMD build --keep-empty-dirs --no-resave-data ATACseqTFEA StartedAt: 2024-10-16 16:57:45 -0400 (Wed, 16 Oct 2024) EndedAt: 2024-10-16 16:59:29 -0400 (Wed, 16 Oct 2024) EllapsedTime: 104.2 seconds RetCode: 0 Status: OK PackageFile: ATACseqTFEA_1.6.0.tar.gz PackageFileSize: 4.392 MiB