Package: ASAFE Version: 1.30.0 Command: chmod a+r ASAFE -R && E:\biocbuild\bbs-3.19-bioc\R\bin\R.exe CMD build --keep-empty-dirs --no-resave-data ASAFE StartedAt: 2024-10-16 17:35:22 -0400 (Wed, 16 Oct 2024) EndedAt: 2024-10-16 17:35:35 -0400 (Wed, 16 Oct 2024) EllapsedTime: 13.0 seconds RetCode: 0 Status: OK PackageFile: ASAFE_1.30.0.tar.gz PackageFileSize: 427.7 KiB