Package: AMOUNTAIN Version: 1.30.0 Command: E:\biocbuild\bbs-3.19-bioc\R\bin\R.exe CMD check --no-multiarch --install=check:AMOUNTAIN.install-out.txt --library=E:\biocbuild\bbs-3.19-bioc\R\library --no-vignettes --timings AMOUNTAIN_1.30.0.tar.gz StartedAt: 2024-10-16 22:47:35 -0400 (Wed, 16 Oct 2024) EndedAt: 2024-10-16 22:48:06 -0400 (Wed, 16 Oct 2024) EllapsedTime: 30.3 seconds RetCode: 0 Status: OK CheckDir: AMOUNTAIN.Rcheck Warnings: 0