Package: AHMassBank Version: 1.4.0 Command: /home/biocbuild/bbs-3.19-bioc/R/bin/R CMD check --install=check:AHMassBank.install-out.txt --library=/home/biocbuild/bbs-3.19-bioc/R/site-library --timings AHMassBank_1.4.0.tar.gz StartedAt: 2024-10-16 21:32:01 -0400 (Wed, 16 Oct 2024) EndedAt: 2024-10-16 21:36:24 -0400 (Wed, 16 Oct 2024) EllapsedTime: 263.6 seconds RetCode: 0 Status: OK CheckDir: AHMassBank.Rcheck Warnings: 0