Package: ADImpute Version: 1.14.0 Command: /Library/Frameworks/R.framework/Resources/bin/R CMD INSTALL ADImpute StartedAt: 2024-10-16 18:22:49 -0400 (Wed, 16 Oct 2024) EndedAt: 2024-10-16 18:22:54 -0400 (Wed, 16 Oct 2024) EllapsedTime: 4.8 seconds RetCode: 0 Status: OK