Package: ADImpute Version: 1.14.0 Command: /Library/Frameworks/R.framework/Resources/bin/R CMD check --install=check:ADImpute.install-out.txt --library=/Library/Frameworks/R.framework/Resources/library --no-vignettes --timings ADImpute_1.14.0.tar.gz StartedAt: 2024-10-17 11:47:17 -0400 (Thu, 17 Oct 2024) EndedAt: 2024-10-17 11:50:18 -0400 (Thu, 17 Oct 2024) EllapsedTime: 180.7 seconds RetCode: 0 Status: WARNINGS CheckDir: ADImpute.Rcheck Warnings: 1