Package: faahKO Version: 1.42.0 Command: /home/biocbuild/bbs-3.18-bioc/R/bin/R CMD check --install=check:faahKO.install-out.txt --library=/home/biocbuild/bbs-3.18-bioc/R/site-library --timings faahKO_1.42.0.tar.gz StartedAt: 2024-04-16 11:27:46 -0400 (Tue, 16 Apr 2024) EndedAt: 2024-04-16 11:32:51 -0400 (Tue, 16 Apr 2024) EllapsedTime: 305.4 seconds RetCode: 0 Status: OK CheckDir: faahKO.Rcheck Warnings: 0