Package: AHLRBaseDbs Version: 0.99.3 Command: /home/biocbuild/bbs-3.18-bioc/R/bin/R CMD check --install=check:AHLRBaseDbs.install-out.txt --library=/home/biocbuild/bbs-3.18-bioc/R/site-library --timings AHLRBaseDbs_0.99.3.tar.gz StartedAt: 2024-04-17 06:33:32 -0400 (Wed, 17 Apr 2024) EndedAt: 2024-04-17 06:34:07 -0400 (Wed, 17 Apr 2024) EllapsedTime: 34.6 seconds RetCode: 0 Status: OK CheckDir: AHLRBaseDbs.Rcheck Warnings: 0