Package: tximport Version: 1.30.0 Command: /home/hpages/bbs-3.18-bioc-R41/R/bin/R CMD check --install=check:tximport.install-out.txt --library=/home/hpages/bbs-3.18-bioc-R41/R/site-library --timings tximport_1.30.0.tar.gz StartedAt: 2024-03-08 16:18:44 -0500 (Fri, 08 Mar 2024) EndedAt: 2024-03-08 16:21:47 -0500 (Fri, 08 Mar 2024) EllapsedTime: 183.5 seconds RetCode: 0 Status: OK CheckDir: tximport.Rcheck Warnings: 0