Package: tximport Version: 1.30.0 Command: /home/hpages/bbs-3.18-bioc-R41/R/bin/R CMD build --keep-empty-dirs --no-resave-data tximport StartedAt: 2024-03-08 15:52:04 -0500 (Fri, 08 Mar 2024) EndedAt: 2024-03-08 15:52:57 -0500 (Fri, 08 Mar 2024) EllapsedTime: 52.6 seconds RetCode: 0 Status: OK PackageFile: tximport_1.30.0.tar.gz PackageFileSize: 308.2 KiB