Package: tximport Version: 1.29.3 Command: /home/biocbuild/bbs-3.18-bioc/R/bin/Rscript -e "BiocCheck::BiocCheck('tximport_1.29.3.tar.gz')" StartedAt: 2023-10-24 10:48:45 -0400 (Tue, 24 Oct 2023) EndedAt: 2023-10-24 10:49:01 -0400 (Tue, 24 Oct 2023) EllapsedTime: 16.8 seconds RetCode: None Status: ERROR Warnings: 0