Package: mzR Version: 2.35.1 Command: /home/hpages/bbs-3.18-bioc/R/bin/R CMD INSTALL mzR StartedAt: 2023-06-01 12:24:44 -0700 (Thu, 01 Jun 2023) EndedAt: 2023-06-01 12:35:28 -0700 (Thu, 01 Jun 2023) EllapsedTime: 644.3 seconds RetCode: 0 Status: OK