Package: RBGL Version: 1.77.1 Command: /home/hpages/bbs-3.18-bioc/R/bin/R CMD INSTALL RBGL StartedAt: 2023-06-01 12:19:15 -0700 (Thu, 01 Jun 2023) EndedAt: 2023-06-01 12:21:49 -0700 (Thu, 01 Jun 2023) EllapsedTime: 154.2 seconds RetCode: 0 Status: OK