Package: RBGL Version: 1.78.0 Command: /home/hpages/bbs-3.18-bioc-R41/R/bin/R CMD check --install=check:RBGL.install-out.txt --library=/home/hpages/bbs-3.18-bioc-R41/R/site-library --timings RBGL_1.78.0.tar.gz StartedAt: 2024-03-08 16:13:30 -0500 (Fri, 08 Mar 2024) EndedAt: 2024-03-08 16:14:30 -0500 (Fri, 08 Mar 2024) EllapsedTime: 59.7 seconds RetCode: 0 Status: WARNINGS CheckDir: RBGL.Rcheck Warnings: 1