Package: BiocVersion Version: 3.18.0 Command: /home/hpages/bbs-3.18-bioc/R/bin/R CMD check --install=check:BiocVersion.install-out.txt --library=/home/hpages/bbs-3.18-bioc-testing/Rlibs --timings BiocVersion_3.18.0.tar.gz StartedAt: 2023-06-01 12:59:56 -0700 (Thu, 01 Jun 2023) EndedAt: 2023-06-01 13:00:08 -0700 (Thu, 01 Jun 2023) EllapsedTime: 12.0 seconds RetCode: 0 Status: OK CheckDir: BiocVersion.Rcheck Warnings: 0