Package: AnnotationDbi Version: 1.63.1 Command: /home/hpages/bbs-3.18-bioc/R/bin/R CMD check --install=check:AnnotationDbi.install-out.txt --library=/home/hpages/bbs-3.18-bioc-testing/Rlibs --timings AnnotationDbi_1.63.1.tar.gz StartedAt: 2023-06-01 12:57:19 -0700 (Thu, 01 Jun 2023) EndedAt: 2023-06-01 13:01:59 -0700 (Thu, 01 Jun 2023) EllapsedTime: 280.2 seconds RetCode: 0 Status: WARNINGS CheckDir: AnnotationDbi.Rcheck Warnings: 1