Package: zFPKM Version: 1.24.0 Command: /Library/Frameworks/R.framework/Resources/bin/R CMD INSTALL zFPKM StartedAt: 2024-04-16 10:29:51 -0400 (Tue, 16 Apr 2024) EndedAt: 2024-04-16 10:30:19 -0400 (Tue, 16 Apr 2024) EllapsedTime: 28.1 seconds RetCode: 0 Status: OK