Package: tradeSeq Version: 1.16.0 Command: /Library/Frameworks/R.framework/Resources/bin/R CMD check --install=check:tradeSeq.install-out.txt --library=/Library/Frameworks/R.framework/Resources/library --no-vignettes --timings tradeSeq_1.16.0.tar.gz StartedAt: 2024-04-18 06:34:48 -0400 (Thu, 18 Apr 2024) EndedAt: 2024-04-18 07:00:21 -0400 (Thu, 18 Apr 2024) EllapsedTime: 1533.1 seconds RetCode: 0 Status: OK CheckDir: tradeSeq.Rcheck Warnings: 0