Package: topdownr Version: 1.24.0 Command: rm -rf topdownr.buildbin-libdir && mkdir topdownr.buildbin-libdir && /Users/biocbuild/BBS/utils/build-universal.sh topdownr_1.24.0.tar.gz /Library/Frameworks/R.framework/Resources/bin/R topdownr.buildbin-libdir StartedAt: 2024-04-15 10:48:35 -0400 (Mon, 15 Apr 2024) EndedAt: 2024-04-15 10:49:18 -0400 (Mon, 15 Apr 2024) EllapsedTime: 43.4 seconds RetCode: 0 Status: OK PackageFile: topdownr_1.24.0.tgz PackageFileSize: 2.227 MiB