Package: ssrch Version: 1.18.0 Command: rm -rf ssrch.buildbin-libdir && mkdir ssrch.buildbin-libdir && /Users/biocbuild/BBS/utils/build-universal.sh ssrch_1.18.0.tar.gz /Library/Frameworks/R.framework/Resources/bin/R ssrch.buildbin-libdir StartedAt: 2024-04-18 11:27:42 -0400 (Thu, 18 Apr 2024) EndedAt: 2024-04-18 11:27:51 -0400 (Thu, 18 Apr 2024) EllapsedTime: 9.2 seconds RetCode: 0 Status: OK PackageFile: ssrch_1.18.0.tgz PackageFileSize: 1.383 MiB