Package: ribosomeProfilingQC Version: 1.14.1 Command: /Library/Frameworks/R.framework/Resources/bin/R CMD check --install=check:ribosomeProfilingQC.install-out.txt --library=/Library/Frameworks/R.framework/Resources/library --no-vignettes --timings ribosomeProfilingQC_1.14.1.tar.gz StartedAt: 2024-04-18 01:19:05 -0400 (Thu, 18 Apr 2024) EndedAt: 2024-04-18 01:28:28 -0400 (Thu, 18 Apr 2024) EllapsedTime: 563.2 seconds RetCode: 0 Status: OK CheckDir: ribosomeProfilingQC.Rcheck Warnings: 0