Package: rhdf5client Version: 1.24.0 Command: /Library/Frameworks/R.framework/Resources/bin/R CMD check --install=check:rhdf5client.install-out.txt --library=/Library/Frameworks/R.framework/Resources/library --no-vignettes --timings rhdf5client_1.24.0.tar.gz StartedAt: 2024-04-15 00:42:51 -0400 (Mon, 15 Apr 2024) EndedAt: 2024-04-15 00:47:03 -0400 (Mon, 15 Apr 2024) EllapsedTime: 251.4 seconds RetCode: 1 Status: ERROR CheckDir: rhdf5client.Rcheck Warnings: NA