Package: rfaRm Version: 1.14.2 Command: /Library/Frameworks/R.framework/Resources/bin/R CMD INSTALL rfaRm StartedAt: 2024-04-16 12:33:27 -0400 (Tue, 16 Apr 2024) EndedAt: 2024-04-16 12:33:42 -0400 (Tue, 16 Apr 2024) EllapsedTime: 15.0 seconds RetCode: 0 Status: OK