Package: rfaRm Version: 1.14.2 Command: /Library/Frameworks/R.framework/Resources/bin/R CMD check --install=check:rfaRm.install-out.txt --library=/Library/Frameworks/R.framework/Resources/library --no-vignettes --timings rfaRm_1.14.2.tar.gz StartedAt: 2024-04-18 01:04:33 -0400 (Thu, 18 Apr 2024) EndedAt: 2024-04-18 01:06:42 -0400 (Thu, 18 Apr 2024) EllapsedTime: 129.2 seconds RetCode: 0 Status: OK CheckDir: rfaRm.Rcheck Warnings: 0