Package: rfaRm Version: 1.14.2 Command: /Library/Frameworks/R.framework/Resources/bin/R CMD build --keep-empty-dirs --no-resave-data rfaRm StartedAt: 2024-04-17 00:50:49 -0400 (Wed, 17 Apr 2024) EndedAt: 2024-04-17 00:51:41 -0400 (Wed, 17 Apr 2024) EllapsedTime: 52.0 seconds RetCode: 0 Status: OK PackageFile: rfaRm_1.14.2.tar.gz PackageFileSize: 533 KiB