Package: receptLoss Version: 1.14.0 Command: /Library/Frameworks/R.framework/Resources/bin/R CMD build --keep-empty-dirs --no-resave-data receptLoss StartedAt: 2024-04-17 00:39:52 -0400 (Wed, 17 Apr 2024) EndedAt: 2024-04-17 00:40:31 -0400 (Wed, 17 Apr 2024) EllapsedTime: 38.6 seconds RetCode: 0 Status: OK PackageFile: receptLoss_1.14.0.tar.gz PackageFileSize: 639.7 KiB