Package: rScudo Version: 1.18.1 Command: /Library/Frameworks/R.framework/Resources/bin/R CMD build --keep-empty-dirs --no-resave-data rScudo StartedAt: 2024-04-17 01:27:27 -0400 (Wed, 17 Apr 2024) EndedAt: 2024-04-17 01:29:20 -0400 (Wed, 17 Apr 2024) EllapsedTime: 112.8 seconds RetCode: 0 Status: OK PackageFile: rScudo_1.18.1.tar.gz PackageFileSize: 845.1 KiB