Package: psichomics Version: 1.28.1 Command: rm -rf psichomics.buildbin-libdir && mkdir psichomics.buildbin-libdir && /Users/biocbuild/BBS/utils/build-universal.sh psichomics_1.28.1.tar.gz /Library/Frameworks/R.framework/Resources/bin/R psichomics.buildbin-libdir StartedAt: 2024-04-18 10:40:15 -0400 (Thu, 18 Apr 2024) EndedAt: 2024-04-18 10:42:14 -0400 (Thu, 18 Apr 2024) EllapsedTime: 119.5 seconds RetCode: 0 Status: OK PackageFile: psichomics_1.28.1.tgz PackageFileSize: 4.665 MiB