Package: podkat Version: 1.34.0 Command: /Library/Frameworks/R.framework/Resources/bin/R CMD INSTALL podkat StartedAt: 2024-04-16 10:55:24 -0400 (Tue, 16 Apr 2024) EndedAt: 2024-04-16 10:56:56 -0400 (Tue, 16 Apr 2024) EllapsedTime: 91.7 seconds RetCode: 0 Status: OK