Package: panelcn.mops Version: 1.24.0 Command: /Library/Frameworks/R.framework/Resources/bin/R CMD build --keep-empty-dirs --no-resave-data panelcn.mops StartedAt: 2024-04-16 23:29:49 -0400 (Tue, 16 Apr 2024) EndedAt: 2024-04-16 23:30:25 -0400 (Tue, 16 Apr 2024) EllapsedTime: 36.0 seconds RetCode: 0 Status: OK PackageFile: panelcn.mops_1.24.0.tar.gz PackageFileSize: 608.2 KiB