Package: odseq Version: 1.30.0 Command: /Library/Frameworks/R.framework/Resources/bin/R CMD check --install=check:odseq.install-out.txt --library=/Library/Frameworks/R.framework/Resources/library --no-vignettes --timings odseq_1.30.0.tar.gz StartedAt: 2024-04-17 21:42:02 -0400 (Wed, 17 Apr 2024) EndedAt: 2024-04-17 21:44:50 -0400 (Wed, 17 Apr 2024) EllapsedTime: 167.3 seconds RetCode: 0 Status: OK CheckDir: odseq.Rcheck Warnings: 0