Package: nearBynding Version: 1.12.0 Command: /Library/Frameworks/R.framework/Resources/bin/R CMD build --keep-empty-dirs --no-resave-data nearBynding StartedAt: 2024-04-16 22:45:01 -0400 (Tue, 16 Apr 2024) EndedAt: 2024-04-16 22:46:49 -0400 (Tue, 16 Apr 2024) EllapsedTime: 108.2 seconds RetCode: 0 Status: OK PackageFile: nearBynding_1.12.0.tar.gz PackageFileSize: 3.343 MiB