Package: motifbreakR Version: 2.16.0 Command: rm -rf motifbreakR.buildbin-libdir && mkdir motifbreakR.buildbin-libdir && /Users/biocbuild/BBS/utils/build-universal.sh motifbreakR_2.16.0.tar.gz /Library/Frameworks/R.framework/Resources/bin/R motifbreakR.buildbin-libdir StartedAt: 2024-04-18 10:13:02 -0400 (Thu, 18 Apr 2024) EndedAt: 2024-04-18 10:14:45 -0400 (Thu, 18 Apr 2024) EllapsedTime: 102.3 seconds RetCode: 0 Status: OK PackageFile: motifbreakR_2.16.0.tgz PackageFileSize: 2.383 MiB