Package: microRNA Version: 1.60.0 Command: rm -rf microRNA.buildbin-libdir && mkdir microRNA.buildbin-libdir && /Users/biocbuild/BBS/utils/build-universal.sh microRNA_1.60.0.tar.gz /Library/Frameworks/R.framework/Resources/bin/R microRNA.buildbin-libdir StartedAt: 2024-04-18 10:07:17 -0400 (Thu, 18 Apr 2024) EndedAt: 2024-04-18 10:07:37 -0400 (Thu, 18 Apr 2024) EllapsedTime: 20.6 seconds RetCode: 0 Status: OK PackageFile: microRNA_1.60.0.tgz PackageFileSize: 5.776 MiB