Package: lineagespot Version: 1.6.0 Command: /Library/Frameworks/R.framework/Resources/bin/R CMD build --keep-empty-dirs --no-resave-data lineagespot StartedAt: 2024-04-16 20:48:47 -0400 (Tue, 16 Apr 2024) EndedAt: 2024-04-16 20:50:15 -0400 (Tue, 16 Apr 2024) EllapsedTime: 88.0 seconds RetCode: 0 Status: OK PackageFile: lineagespot_1.6.0.tar.gz PackageFileSize: 718.6 KiB