Package: lineagespot Version: 1.6.0 Command: rm -rf lineagespot.buildbin-libdir && mkdir lineagespot.buildbin-libdir && /Users/biocbuild/BBS/utils/build-universal.sh lineagespot_1.6.0.tar.gz /Library/Frameworks/R.framework/Resources/bin/R lineagespot.buildbin-libdir StartedAt: 2024-04-18 09:52:29 -0400 (Thu, 18 Apr 2024) EndedAt: 2024-04-18 09:53:31 -0400 (Thu, 18 Apr 2024) EllapsedTime: 62.9 seconds RetCode: 0 Status: OK PackageFile: lineagespot_1.6.0.tgz PackageFileSize: 766.1 KiB